BEGIN:VCALENDAR
VERSION:2.0
PRODID:-//Heros Lacrosse - ECPv6.15.11//NONSGML v1.0//EN
CALSCALE:GREGORIAN
METHOD:PUBLISH
X-ORIGINAL-URL:https://heroslax.com
X-WR-CALDESC:Events for Heros Lacrosse
REFRESH-INTERVAL;VALUE=DURATION:PT1H
X-Robots-Tag:noindex
X-PUBLISHED-TTL:PT1H
BEGIN:VTIMEZONE
TZID:UTC
BEGIN:STANDARD
TZOFFSETFROM:+0000
TZOFFSETTO:+0000
TZNAME:UTC
DTSTART:20230101T000000
END:STANDARD
END:VTIMEZONE
BEGIN:VEVENT
DTSTART;VALUE=DATE:20241027
DTEND;VALUE=DATE:20241028
DTSTAMP:20260422T212733
CREATED:20240803T181641Z
LAST-MODIFIED:20240803T181641Z
UID:3344-1729987200-1730073599@heroslax.com
SUMMARY:Fall Playday with Skywalkers and Capital
DESCRIPTION:2026 Green \n2026 White \n2027 Green \n2027 White \n2028 Green \n2028 White
URL:https://heroslax.com/event/fall-playday-with-skywalkers-and-capital/
LOCATION:NJ
CATEGORIES:Hero's 2026's,Hero's 2027's,Hero's 2028's
END:VEVENT
BEGIN:VEVENT
DTSTART;VALUE=DATE:20241019
DTEND;VALUE=DATE:20241021
DTSTAMP:20260422T212733
CREATED:20240927T191218Z
LAST-MODIFIED:20240927T191218Z
UID:3460-1729296000-1729468799@heroslax.com
SUMMARY:National Fall Lax Fest
DESCRIPTION:Participating Teams: \n2027 White \n2029 Green \n2031 White \n2032 Green \n2032 White \n2033 Green \n2033 White \n2034 Green \n2034 White
URL:https://heroslax.com/event/national-fall-lax-fest/
LOCATION:NJ
CATEGORIES:Hero's 2027's,Hero's 2029's,Hero's 2031's,Hero's 2032's,Hero's 2033's,Hero's 2034's
ATTACH;FMTTYPE=image/png:https://heroslax.com/wp-content/uploads/2024/09/NATIONAL_FALL_LAX_FESTIVAL_large.png
END:VEVENT
BEGIN:VEVENT
DTSTART;VALUE=DATE:20240709
DTEND;VALUE=DATE:20240711
DTSTAMP:20260422T212733
CREATED:20240408T144923Z
LAST-MODIFIED:20240504T144129Z
UID:2671-1720483200-1720655999@heroslax.com
SUMMARY:USA Lacrosse Youth Nationals
DESCRIPTION:Participating Teams: \n2027 Green
URL:https://heroslax.com/event/usa-lacrosse-youth-nationals/
LOCATION:Delaware Turf Sports Complex\, 4000 Bay Rd\, Frederica\, DE\, 19946\, United States
CATEGORIES:Hero's 2027's
ATTACH;FMTTYPE=image/png:https://heroslax.com/wp-content/uploads/2024/04/Vail-Lacrosse-Shootout-4.png
END:VEVENT
END:VCALENDAR