BEGIN:VCALENDAR
VERSION:2.0
PRODID:-//Heros Lacrosse - ECPv6.15.11//NONSGML v1.0//EN
CALSCALE:GREGORIAN
METHOD:PUBLISH
X-ORIGINAL-URL:https://heroslax.com
X-WR-CALDESC:Events for Heros Lacrosse
REFRESH-INTERVAL;VALUE=DURATION:PT1H
X-Robots-Tag:noindex
X-PUBLISHED-TTL:PT1H
BEGIN:VTIMEZONE
TZID:UTC
BEGIN:STANDARD
TZOFFSETFROM:+0000
TZOFFSETTO:+0000
TZNAME:UTC
DTSTART:20230101T000000
END:STANDARD
END:VTIMEZONE
BEGIN:VEVENT
DTSTART;VALUE=DATE:20250711
DTEND;VALUE=DATE:20250714
DTSTAMP:20260422T195914
CREATED:20240408T143030Z
LAST-MODIFIED:20240927T182525Z
UID:2663-1752192000-1752451199@heroslax.com
SUMMARY:G8 Lacrosse Tournament
DESCRIPTION:Participating Teams: \n2027 Green \n2027 White \n2028 Green \n2028 White \n2029 Green \n2029 White
URL:https://heroslax.com/event/g8-lacrosse-tournament/
LOCATION:Capelli Sport Complex\, 1659 Wayside Rd\, Tinton Falls\, NJ\, 07712\, United States
CATEGORIES:Hero's 2027's,Hero's 2028's,Hero's 2029's
ATTACH;FMTTYPE=image/png:https://heroslax.com/wp-content/uploads/2024/04/Vail-Lacrosse-Shootout-1.png
END:VEVENT
BEGIN:VEVENT
DTSTART;VALUE=DATE:20250628
DTEND;VALUE=DATE:20250630
DTSTAMP:20260422T195914
CREATED:20240407T221258Z
LAST-MODIFIED:20240927T183241Z
UID:2632-1751068800-1751241599@heroslax.com
SUMMARY:Summer Genesis Origins
DESCRIPTION:Participating Teams: \n2029 Green \n2030 White \n2030 Green \n2031 Green \n2031 White \n2032 Green \n2032 White \n2033 Green
URL:https://heroslax.com/event/summer-genesis-origins/
CATEGORIES:Hero's 2029's,Hero's 2030's,Hero's 2031's,Hero's 2032's,Hero's 2033's
ATTACH;FMTTYPE=image/png:https://heroslax.com/wp-content/uploads/2024/04/origins_large.png
END:VEVENT
BEGIN:VEVENT
DTSTART;VALUE=DATE:20250621
DTEND;VALUE=DATE:20250624
DTSTAMP:20260422T195914
CREATED:20240312T182039Z
LAST-MODIFIED:20240927T185133Z
UID:2154-1750464000-1750723199@heroslax.com
SUMMARY:Lax For The Cure
DESCRIPTION:Participating Teams: \n2029 White \n2029 Green \n2030 White \n2030 Green \n2031 White \n2031 Green \n2032 White \n2032 Green \n2033 White \n2033 Green
URL:https://heroslax.com/event/2024-lax-for-the-cure/
CATEGORIES:Hero's 2029's,Hero's 2030's,Hero's 2031's,Hero's 2032's,Hero's 2033's
ATTACH;FMTTYPE=image/png:https://heroslax.com/wp-content/uploads/2024/03/Camp-Heros-1.png
END:VEVENT
BEGIN:VEVENT
DTSTART;VALUE=DATE:20250617
DTEND;VALUE=DATE:20250620
DTSTAMP:20260422T195914
CREATED:20240407T223408Z
LAST-MODIFIED:20240803T193739Z
UID:2640-1750118400-1750377599@heroslax.com
SUMMARY:Camp Hero's
DESCRIPTION:Participating Teams: \n2029 Green \n2029 White \n2030 Green \n2030 White \n2031 Green \n2031 White \n2032 Green \n2032 White \n2033 Green \n2033 White \n2034 (optional)
URL:https://heroslax.com/event/camp-heros/
LOCATION:Camp Pecometh\, 401 Jack Elliot Way\, Centreville\, MD\, 21617\, United States
CATEGORIES:Hero's 2029's,Hero's 2030's,Hero's 2031's,Hero's 2032's,Hero's 2033's,Hero's 2034's
ATTACH;FMTTYPE=image/jpeg:https://heroslax.com/wp-content/uploads/2024/04/Vail-Lacrosse-Shootout.jpg
END:VEVENT
BEGIN:VEVENT
DTSTART;VALUE=DATE:20250614
DTEND;VALUE=DATE:20250616
DTSTAMP:20260422T195914
CREATED:20240407T210259Z
LAST-MODIFIED:20240803T192030Z
UID:2616-1749859200-1750031999@heroslax.com
SUMMARY:Live Love Lax Summer Festival
DESCRIPTION:Participating Teams: \n2026 Green \n2026 White \n2027 Green \n2027 White \n2028 Green \n2028 White \n2029 Green \n2029 White \n2030 Green \n2030 White \n2031 Green \n2031 White \n2032 Green \n2032 White \n2033 Green \n2033 White \n2034 Green \n2034 White
URL:https://heroslax.com/event/live-love-lax/
CATEGORIES:Hero's 2026's,Hero's 2027's,Hero's 2028's,Hero's 2029's,Hero's 2030's,Hero's 2031's,Hero's 2032's,Hero's 2033's,Hero's 2034's
ATTACH;FMTTYPE=image/png:https://heroslax.com/wp-content/uploads/2024/04/Untitled-design-94.png
END:VEVENT
BEGIN:VEVENT
DTSTART;VALUE=DATE:20250607
DTEND;VALUE=DATE:20250609
DTSTAMP:20260422T195914
CREATED:20240927T184027Z
LAST-MODIFIED:20240927T184027Z
UID:3434-1749254400-1749427199@heroslax.com
SUMMARY:Impulse Lax Festival
DESCRIPTION:2027 White \n2028 White \n2029 White \n2031 White \n2032 White \n2033 Green \n2033 White \n2034 Green \n2034 White
URL:https://heroslax.com/event/impulse-lax-festival-2/
LOCATION:Copperlex\, 2007 Cedar Dr\, Edgewood\, MD\, 21040\, United States
CATEGORIES:Hero's 2027's,Hero's 2028's,Hero's 2029's,Hero's 2031's,Hero's 2032's,Hero's 2033's,Hero's 2034's
ATTACH;FMTTYPE=image/png:https://heroslax.com/wp-content/uploads/2024/09/impulsewebsite_large.png
END:VEVENT
BEGIN:VEVENT
DTSTART;VALUE=DATE:20250301
DTEND;VALUE=DATE:20250601
DTSTAMP:20260422T195914
CREATED:20240927T191750Z
LAST-MODIFIED:20240927T191750Z
UID:3463-1740787200-1748735999@heroslax.com
SUMMARY:National Girls Lacrosse League - NGLL
DESCRIPTION:Participating Teams: \n2029 Green\n2029 White\n2030 Green\n2030 White\n2031 Green\n2031 White\n2032 Green\n2032 White\n2033 Green\n2033 White\n2034 Green\n2034 White
URL:https://heroslax.com/event/national-girls-lacrosse-league-ngll/
CATEGORIES:Hero's 2029's,Hero's 2030's,Hero's 2031's,Hero's 2032's,Hero's 2033's,Hero's 2034's
ATTACH;FMTTYPE=image/png:https://heroslax.com/wp-content/uploads/2024/09/LAX_NGLL_1024px.png
END:VEVENT
BEGIN:VEVENT
DTSTART;VALUE=DATE:20241123
DTEND;VALUE=DATE:20241125
DTSTAMP:20260422T195914
CREATED:20240927T181708Z
LAST-MODIFIED:20240927T182103Z
UID:3424-1732320000-1732492799@heroslax.com
SUMMARY:Fall Live Love Lax
DESCRIPTION:2028 Green \n2028 White \n2029 Green \n2029 White \n2030 Green \n2030 White \n2031 Green \n2031 White \n2032 Green \n2032 White \n2033 Green \n2033 White \n2034 Green
URL:https://heroslax.com/event/fall-live-love-lax/
LOCATION:Delaware Turf Sports Complex\, 4000 Bay Rd\, Frederica\, DE\, 19946\, United States
CATEGORIES:Hero's 2028's,Hero's 2029's,Hero's 2030's,Hero's 2031's,Hero's 2032's,Hero's 2033's,Hero's 2034's
ATTACH;FMTTYPE=image/png:https://heroslax.com/wp-content/uploads/2024/04/Untitled-design-94.png
END:VEVENT
BEGIN:VEVENT
DTSTART;VALUE=DATE:20241116
DTEND;VALUE=DATE:20241118
DTSTAMP:20260422T195914
CREATED:20240803T182857Z
LAST-MODIFIED:20240803T182857Z
UID:3349-1731715200-1731887999@heroslax.com
SUMMARY:Mid Atlantic Showcase
DESCRIPTION:2026 Green \n2026 White \n2027 Green \n2027 White \n2028 Green \n2028 White \n2029 Green \n2029 White \n2030 Green \n2030 White \n2031 Green \n2031 White \n2032 Green \n2032 White \n2033 Green \n2033 White \n 
URL:https://heroslax.com/event/mid-atlantic-showcase/
CATEGORIES:Hero's 2026's,Hero's 2027's,Hero's 2028's,Hero's 2029's,Hero's 2030's,Hero's 2031's,Hero's 2032's,Hero's 2033's
ATTACH;FMTTYPE=image/png:https://heroslax.com/wp-content/uploads/2024/08/midatlantic.png
END:VEVENT
BEGIN:VEVENT
DTSTART;VALUE=DATE:20241109
DTEND;VALUE=DATE:20241111
DTSTAMP:20260422T195914
CREATED:20240927T181152Z
LAST-MODIFIED:20240927T181152Z
UID:3421-1731110400-1731283199@heroslax.com
SUMMARY:NXT Fall Continental Cup
DESCRIPTION:2026 Green \n2026 White \n2027 Green \n2027 White \n2028 Green \n2028 White \n2029 White \n2030 Green \n2030 White \n2031 Green \n2031 White \n2032 Green \n2032 White
URL:https://heroslax.com/event/nxt-fall-continental-cup/
CATEGORIES:Hero's 2026's,Hero's 2027's,Hero's 2028's,Hero's 2029's,Hero's 2030's,Hero's 2031's,Hero's 2032's
ATTACH;FMTTYPE=image/png:https://heroslax.com/wp-content/uploads/2024/09/Continental-Cup-2024-Sized.png
END:VEVENT
BEGIN:VEVENT
DTSTART;VALUE=DATE:20241109
DTEND;VALUE=DATE:20241111
DTSTAMP:20260422T195914
CREATED:20240803T182056Z
LAST-MODIFIED:20240804T151011Z
UID:3346-1731110400-1731283199@heroslax.com
SUMMARY:Chesapeake Invitational
DESCRIPTION:2026 Green \n2026 White \n2027 Green \n2027 White \n2028 Green \n2028 White \n2029 Green \n2030 Green \n2030 White \n2031 Green
URL:https://heroslax.com/event/chesapeake-invitational/
CATEGORIES:Hero's 2026's,Hero's 2027's,Hero's 2028's,Hero's 2029's,Hero's 2030's,Hero's 2031's
ATTACH;FMTTYPE=image/png:https://heroslax.com/wp-content/uploads/2024/08/chesapeake.png
END:VEVENT
BEGIN:VEVENT
DTSTART;VALUE=DATE:20241019
DTEND;VALUE=DATE:20241021
DTSTAMP:20260422T195914
CREATED:20240927T191218Z
LAST-MODIFIED:20240927T191218Z
UID:3460-1729296000-1729468799@heroslax.com
SUMMARY:National Fall Lax Fest
DESCRIPTION:Participating Teams: \n2027 White \n2029 Green \n2031 White \n2032 Green \n2032 White \n2033 Green \n2033 White \n2034 Green \n2034 White
URL:https://heroslax.com/event/national-fall-lax-fest/
CATEGORIES:Hero's 2027's,Hero's 2029's,Hero's 2031's,Hero's 2032's,Hero's 2033's,Hero's 2034's
ATTACH;FMTTYPE=image/png:https://heroslax.com/wp-content/uploads/2024/09/NATIONAL_FALL_LAX_FESTIVAL_large.png
END:VEVENT
BEGIN:VEVENT
DTSTART;VALUE=DATE:20240713
DTEND;VALUE=DATE:20240715
DTSTAMP:20260422T195914
CREATED:20240408T145251Z
LAST-MODIFIED:20240504T151744Z
UID:2675-1720828800-1721001599@heroslax.com
SUMMARY:Crab Cake NXT
DESCRIPTION:Participating Teams: \n2029 Green
URL:https://heroslax.com/event/crab-cake-nxt/
LOCATION:Calvert Regional Park\, 304 Brick Meeting House Road\, North East\, MD\, 21901\, United States
CATEGORIES:Hero's 2029's
ATTACH;FMTTYPE=image/png:https://heroslax.com/wp-content/uploads/2024/04/Vail-Lacrosse-Shootout-5.png
END:VEVENT
END:VCALENDAR